BEGIN:VCALENDAR
VERSION:2.0
PRODID:-//North Country At Work - ECPv4.6.12//NONSGML v1.0//EN
CALSCALE:GREGORIAN
METHOD:PUBLISH
X-WR-CALNAME:North Country At Work
X-ORIGINAL-URL:https://www.northcountryatwork.org
X-WR-CALDESC:Events for North Country At Work
BEGIN:VEVENT
DTSTART;TZID=UTC-4:20190405T103000
DTEND;TZID=UTC-4:20190405T160000
DTSTAMP:20260419T173129
CREATED:20190305T193708Z
LAST-MODIFIED:20190321T193641Z
UID:9298-1554460200-1554480000@www.northcountryatwork.org
SUMMARY:Plattsburgh at Work: Stories & Snapshots Day 1
DESCRIPTION:We’re looking for photos and memories about your work or your family’s work in Plattsburgh.  What did your grandparents do for work? What was your very first part-time job? What’s your favorite memory from on the job? \nCome share your snapshots of people at work\, tell us your stories about working life\, and become part of our growing online archive! We’ll be in Plattsburgh for two days\, so stop by and talk with us! \nOur first stop is the Plattsburgh Public Library from 10:30 a.m. to 4 p.m. on April 5 \n  \n
URL:https://www.northcountryatwork.org/event/plattsburgh-at-work-stories-snapshots/
LOCATION:19 Oak Street\, Plattsburgh\, NY\, 12901\, United States
ORGANIZER;CN="Claire%20Mendes":MAILTO:claire@ncpr.org
END:VEVENT
END:VCALENDAR